BEGIN:VCALENDAR
VERSION:2.0
PRODID:DPCALENDAR
CALSCALE:GREGORIAN
BEGIN:VTIMEZONE
TZID:Australia/Melbourne
BEGIN:STANDARD
DTSTART:20180331T160000
TZOFFSETFROM:+1100
TZOFFSETTO:+1000
TZNAME:AEST
END:STANDARD
BEGIN:DAYLIGHT
DTSTART:20181006T160000
TZOFFSETFROM:+1000
TZOFFSETTO:+1100
TZNAME:AEDT
END:DAYLIGHT
BEGIN:STANDARD
DTSTART:20190406T160000
TZOFFSETFROM:+1100
TZOFFSETTO:+1000
TZNAME:AEST
END:STANDARD
END:VTIMEZONE
X-WR-TIMEZONE:Australia/Melbourne
BEGIN:VEVENT
DTSTART;TZID=Australia/Melbourne:20190307T180000
DTEND;TZID=Australia/Melbourne:20190307T210000
UID:580uq74n4q5g8rrf7sj814fhsr@google.com
RECURRENCE-ID:20190307T070000Z
SUMMARY:Genesis Bible Study Group
DTSTAMP:20190227T042023Z
DESCRIPTION:
X-ALT-DESC;FMTTYPE=text/html:
LOCATION:
GEO:0.00000000;0.00000000
LAST-MODIFIED:20190227T042023Z
X-ACCESS:1
X-HITS:0
X-URL:https://www.google.com/calendar/event?eid=NTgwdXE3NG40cTVnOHJyZjdzajgxNGZoc3JfMjAxOTAzMDdUMDcwMDAwWiBjYWxlbmRhckBkaXZpbmV3b3JkLmNvbS5hdQ
X-COLOR:9fe1e7
END:VEVENT
END:VCALENDAR