BEGIN:VCALENDAR
VERSION:2.0
PRODID:DPCALENDAR
CALSCALE:GREGORIAN
BEGIN:VTIMEZONE
TZID:Australia/Melbourne
BEGIN:STANDARD
DTSTART:20180331T160000
TZOFFSETFROM:+1100
TZOFFSETTO:+1000
TZNAME:AEST
END:STANDARD
BEGIN:DAYLIGHT
DTSTART:20181006T160000
TZOFFSETFROM:+1000
TZOFFSETTO:+1100
TZNAME:AEDT
END:DAYLIGHT
BEGIN:STANDARD
DTSTART:20190406T160000
TZOFFSETFROM:+1100
TZOFFSETTO:+1000
TZNAME:AEST
END:STANDARD
END:VTIMEZONE
X-WR-TIMEZONE:Australia/Melbourne
BEGIN:VEVENT
DTSTART;TZID=Australia/Melbourne:20190305T190000
DTEND;TZID=Australia/Melbourne:20190305T203000
UID:72v03257jfe8b4rr6rrt9bato9@google.com
RECURRENCE-ID:20190305T080000Z
SUMMARY:Revelation Bible Study Group
DTSTAMP:20190227T041521Z
DESCRIPTION:
X-ALT-DESC;FMTTYPE=text/html:
LOCATION:199 Epping Road\, 2122 Marsfield\, New South Wales\, Australia
GEO:-33.77331480;151.10408130
LAST-MODIFIED:20190227T041709Z
X-ACCESS:1
X-HITS:0
X-URL:https://www.google.com/calendar/event?eid=NzJ2MDMyNTdqZmU4YjRycjZycnQ5YmF0bzlfMjAxOTAzMDVUMDgwMDAwWiBjYWxlbmRhckBkaXZpbmV3b3JkLmNvbS5hdQ
X-COLOR:9fe1e7
END:VEVENT
END:VCALENDAR